BEGIN:VCALENDAR
VERSION:2.0
PRODID:-//Yoga Space Yorkshire - ECPv6.15.20//NONSGML v1.0//EN
CALSCALE:GREGORIAN
METHOD:PUBLISH
X-ORIGINAL-URL:https://www.yogaspaceyorkshire.com
X-WR-CALDESC:Events for Yoga Space Yorkshire
REFRESH-INTERVAL;VALUE=DURATION:PT1H
X-Robots-Tag:noindex
X-PUBLISHED-TTL:PT1H
BEGIN:VTIMEZONE
TZID:Europe/London
BEGIN:DAYLIGHT
TZOFFSETFROM:+0000
TZOFFSETTO:+0100
TZNAME:BST
DTSTART:20200329T010000
END:DAYLIGHT
BEGIN:STANDARD
TZOFFSETFROM:+0100
TZOFFSETTO:+0000
TZNAME:GMT
DTSTART:20201025T010000
END:STANDARD
BEGIN:DAYLIGHT
TZOFFSETFROM:+0000
TZOFFSETTO:+0100
TZNAME:BST
DTSTART:20210328T010000
END:DAYLIGHT
BEGIN:STANDARD
TZOFFSETFROM:+0100
TZOFFSETTO:+0000
TZNAME:GMT
DTSTART:20211031T010000
END:STANDARD
BEGIN:DAYLIGHT
TZOFFSETFROM:+0000
TZOFFSETTO:+0100
TZNAME:BST
DTSTART:20220327T010000
END:DAYLIGHT
BEGIN:STANDARD
TZOFFSETFROM:+0100
TZOFFSETTO:+0000
TZNAME:GMT
DTSTART:20221030T010000
END:STANDARD
END:VTIMEZONE
BEGIN:VEVENT
DTSTART;TZID=Europe/London:20211120T100000
DTEND;TZID=Europe/London:20211121T140000
DTSTAMP:20260422T020226
CREATED:20210730T102350Z
LAST-MODIFIED:20211019T095854Z
UID:4942-1637402400-1637503200@www.yogaspaceyorkshire.com
SUMMARY:One Night Relax Renew Yoga Retreat Yorkshire
DESCRIPTION:One Night Relax RenewYoga Retreat at YogaSpace Yorkshire \nRaising your winter vibration Saturday 20th November– Sunday 21 November 2021\nRetreat leader/teacher: Emma (bio here) + @divinekundaliniyoga \nGuest Teacher: SatGuru Kaur Khalsa – a  leading Somatic Therapist and Kundalini yoga teacher trainer. \nCatering: Kimberley (@pickledradishfeasts) \nAll food is vegetarian – other dietary requirements on request (ask before booking please). \nOutline Retreat Schedule (approx. times) \nSaturday 20 November 2021 \nArrive 9.45 am – for Covid health check individual lateral flow tests (thank you for co-operation to keep the group bubble safe) \n9.45 am – welcome refreshments in the dining room. \n10.15/30 am – Opening circle/meditation \nRetreat theme yoga/somatic yoga \n1pm – Lunch \n2.30 pm – Optional afternoon activities: \n\na) There is the option for choice: Mindful Walk to Stone Circle  (Emma and Charles) – and then fire\, chants and dance.\n\nIf you don’t wish to take part in this activity you may remain at the house and enjoy the activities below. \n\nb) Indoor Swimming\, Private Somatic sessions with SatGuru – options to take an outdoor walk.\nC) if you came by car\, you may venture out to explore a local place – you are not a prisoner here!\n\nAfternoon teas\, fresh fruit\, and cake will be available for self-serve in the dining room. \n5 pm – Gather for our second session in the studio. \n7. 30 pm Supper will be served \nBring your own wine/alcohol to this event if you wish. \nOptional: Retire to bed\, rest\, or gather around the fire brazier outside to chat\, share stories and drink herb teas before we retire to bed. \nSunday   – 21 Nov 2021 \nFrom 8 am -cooked breakfast + Herb teas/teas\, coffee in the dining room (self-serve) \nMorning swim (optional)   Your optional walk around the park or grounds\, retreat for a private silent meditation in the walled garden (self-directed). \nOr Lie In and snooze! \n10 am – Workshop Session with Emma/SatGuru – retreat theme/ceremonial\, \n11 am – Yoga \n12.30 pm: –Lovely Sunday lunch \nBy 2 pm: all departures \nAll timings/schedules are subject to slight alterations due to the weather or the individuality of the retreat group. \nYour Investment:  \n£225 Shared Twin-bed Room in House +use of any house bathroom (bookable by two people who know each other) \n£295 Single Room in House using any house bathroom \n£395 King Double Bed Swanky En-suite cottage (Grooms Rooms) – price for one person using cottage \nor £325 if two people share an en-suite cottage. \nBUY YOUR TICKETS HERE \nWhat we provide: \nAccommodation\, linen\, bath towels\, food\, and herbal teas. \nShower gel only\, hand soap\, hand sanitizer at studio entrances. \nWhite toweling bathrobes. \nUnlimited herbal teas and some coffee\, bring anything else you can’t personally survive without. \nWe send you a list of essentials to bring – after booking\, plus more detailed info \nBooking T&C \nYou are booking this retreat as you believe you are fit and able to practice yoga and have not been advised against yoga practices by your doctor.  You declare you are not pregnant and can hear the gong being played. \nMonetary Terms \nTo book: visit https://app.namastream.com/ysy – select your retreat date\, pay\, and register your payment against a retreat calendar date. \nDeposit:  30% of the retreat cost (single or shared room – or ensuite cottage – price varies) secures your place. \nDeposit: Non Refundable \nBalance due: – 2 weeks before retreat date start. \nBalance Terms: Cancel your balance payment before your 2 weeks payment due date before an event. Deposit kept\, Balanced waived. \nBalance Paid: You cancel with 14  days of the event – we can and will endeavor to sell your place from any waitlist but it is not our responsibility. You are responsible for the balance if your place cannot be filled. The balance will not be refunded. \nIf you are able to send an alternative retreat guest to us- the guest needs to be physically able to enjoy and participate in the weekend.  we need to have the participant’s email and addresses and phone numbers and send them our Retreat Centre T&C to be signed. \nPrior to booking all retreat guests must read and agree to our studio T& C \nBuy tickets\nEmma \nStudent class testimonials \n“A wonderful morning body and spirit connection with so much love at the beautiful Ananda Studio.Emma how generously and openly you share your wonderful gifts with everyone who comes into connection with you. You are truly blessed and very much appreciated and loved.” \n“Fairly new to yoga and what a perfect place to go and start my journey. Emma is a brilliant teacher.” \n“From the first moment of entering the beautiful hall I knew this studio is something special. A light spacious yet so cozy and calm yoga space is hard to find. Relaxation comes naturally and yoga is so much more enjoyable in these beautiful surroundings. Emma is an amazing kundalini yoga teacher and divine when playing the gong. Her classes are challenging yet respect individual circumstances and make you feel so much better instantly. She is very knowledgeable\, connects theory and practice with ease\, is full of energy and positive spirit and a joy to be taught by. I truly love my kundalini yoga and gong sessions with Emma” \n“Emma’s Kundalini classes are ‘first-class\, a relaxed and professional atmosphere. Emma is a fabulous teacher and really opens you to a new way of being while you show yourself self-love and care’” \n“Hi Emma\, thanks for a totally awesome kundalini class! Your beautiful energy was so inspiring and I absolutely loved the new studio.’ \n“Hi\, Emma -thank you for the class yesterday which I found both comforting and invigorating at the same time. I nearly didn’t attend because I had a stomach ache but decided just to take it slowly and gradually my stomach began to feel much better. I continue to be amazed at how Kundalini yoga helps me in so many ways.” \n  \n 
URL:https://www.yogaspaceyorkshire.com/event/one-night-relax-renew-yoga-retreat-yorkshire/
LOCATION:YogaSpace Yorkshire\, Patrick Brompton Hall\, Bedale\, North Yorkshire\, DL8 1JL\, United Kingdom
CATEGORIES:Spiritual Pharmacy Event @YSY,YogaSpace Yorkshire Event,YogaSpace Yorkshire retreat
ATTACH;FMTTYPE=image/jpeg:https://www.yogaspaceyorkshire.com/wp-content/uploads/2021/07/IMG_4349-2.jpg
END:VEVENT
END:VCALENDAR