BEGIN:VCALENDAR
VERSION:2.0
PRODID:-//Yoga Space Yorkshire - ECPv6.15.20//NONSGML v1.0//EN
CALSCALE:GREGORIAN
METHOD:PUBLISH
X-WR-CALNAME:Yoga Space Yorkshire
X-ORIGINAL-URL:https://www.yogaspaceyorkshire.com
X-WR-CALDESC:Events for Yoga Space Yorkshire
REFRESH-INTERVAL;VALUE=DURATION:PT1H
X-Robots-Tag:noindex
X-PUBLISHED-TTL:PT1H
BEGIN:VTIMEZONE
TZID:Europe/London
BEGIN:DAYLIGHT
TZOFFSETFROM:+0000
TZOFFSETTO:+0100
TZNAME:BST
DTSTART:20210328T010000
END:DAYLIGHT
BEGIN:STANDARD
TZOFFSETFROM:+0100
TZOFFSETTO:+0000
TZNAME:GMT
DTSTART:20211031T010000
END:STANDARD
BEGIN:DAYLIGHT
TZOFFSETFROM:+0000
TZOFFSETTO:+0100
TZNAME:BST
DTSTART:20220327T010000
END:DAYLIGHT
BEGIN:STANDARD
TZOFFSETFROM:+0100
TZOFFSETTO:+0000
TZNAME:GMT
DTSTART:20221030T010000
END:STANDARD
BEGIN:DAYLIGHT
TZOFFSETFROM:+0000
TZOFFSETTO:+0100
TZNAME:BST
DTSTART:20230326T010000
END:DAYLIGHT
BEGIN:STANDARD
TZOFFSETFROM:+0100
TZOFFSETTO:+0000
TZNAME:GMT
DTSTART:20231029T010000
END:STANDARD
END:VTIMEZONE
BEGIN:VEVENT
DTSTART;TZID=Europe/London:20220115T100000
DTEND;TZID=Europe/London:20220115T120000
DTSTAMP:20260421T230513
CREATED:20211212T112753Z
LAST-MODIFIED:20220104T090643Z
UID:5116-1642240800-1642248000@www.yogaspaceyorkshire.com
SUMMARY:Kundalini yoga New Year Workshop - TRANSFORMATION
DESCRIPTION:Kundalini yoga New Year Workshop – TRANSFORMATION\n15th January 2022\n10-12 noon\n£28 \n*This event is sold out – join the waitlist\, – email your request. If a place becomes available you will be emailed. \nThe yogic tools Emma teachers empower you to create the change you want to be ‘off the mat’\, as you embody your personal growth and ability to pause\, reflect and grow\, into your daily life. If you lean towards any negative behaviours you wish to move away from as we start 2022\, Kundalini yoga is known to be the yoga that supports positive changes we choose to make for ourselves. \nJoin this Kundalini yoga workshop to glean how you can draw away from the behaviour you know does not support your highest vibration and rise up with power in confident projection to make a fresh start for the next 12 months. \nThis workshop will work with New Year’s energy and intentions to help you begin your transformation into the new year with a stronger personal projection.\nMore info and how to secure your place HERE \nMore info and how to secure your place HERE \nBuy your tickets on the YSY Whole Self Hub \nRead our T&C for cancellations
URL:https://www.yogaspaceyorkshire.com/event/kundalini-yoga-new-year-workshop-transformation/
LOCATION:YogaSpace Yorkshire\, Patrick Brompton Hall\, Bedale\, North Yorkshire\, DL8 1JL\, United Kingdom
CATEGORIES:Studio workshop,YogaSpace Yorkshire Event
ATTACH;FMTTYPE=image/jpeg:https://www.yogaspaceyorkshire.com/wp-content/uploads/2021/12/61536452-28F3-4B05-8A6B-428C6FF64961-scaled.jpg
END:VEVENT
END:VCALENDAR