BEGIN:VCALENDAR
VERSION:2.0
PRODID:-//Yoga Space Yorkshire - ECPv6.15.20//NONSGML v1.0//EN
CALSCALE:GREGORIAN
METHOD:PUBLISH
X-ORIGINAL-URL:https://www.yogaspaceyorkshire.com
X-WR-CALDESC:Events for Yoga Space Yorkshire
REFRESH-INTERVAL;VALUE=DURATION:PT1H
X-Robots-Tag:noindex
X-PUBLISHED-TTL:PT1H
BEGIN:VTIMEZONE
TZID:Europe/London
BEGIN:DAYLIGHT
TZOFFSETFROM:+0000
TZOFFSETTO:+0100
TZNAME:BST
DTSTART:20220327T010000
END:DAYLIGHT
BEGIN:STANDARD
TZOFFSETFROM:+0100
TZOFFSETTO:+0000
TZNAME:GMT
DTSTART:20221030T010000
END:STANDARD
BEGIN:DAYLIGHT
TZOFFSETFROM:+0000
TZOFFSETTO:+0100
TZNAME:BST
DTSTART:20230326T010000
END:DAYLIGHT
BEGIN:STANDARD
TZOFFSETFROM:+0100
TZOFFSETTO:+0000
TZNAME:GMT
DTSTART:20231029T010000
END:STANDARD
BEGIN:DAYLIGHT
TZOFFSETFROM:+0000
TZOFFSETTO:+0100
TZNAME:BST
DTSTART:20240331T010000
END:DAYLIGHT
BEGIN:STANDARD
TZOFFSETFROM:+0100
TZOFFSETTO:+0000
TZNAME:GMT
DTSTART:20241027T010000
END:STANDARD
END:VTIMEZONE
BEGIN:VEVENT
DTSTART;TZID=Europe/London:20230203T183000
DTEND;TZID=Europe/London:20230203T193000
DTSTAMP:20260421T035325
CREATED:20230126T163836Z
LAST-MODIFIED:20230126T171511Z
UID:6088-1675449000-1675452600@www.yogaspaceyorkshire.com
SUMMARY:*Pop- Up* Soothing Breath and Sound Healing Hour with Emma
DESCRIPTION:Friday 3rd February 2023 @6.30pm\nCatch one of Emma’s special pop-up weekend sound and breath sessions. Emma will create a generous hour to reside in your restful being.\nBe gently guided by Emma’s soothing yogic breaths to prepare your nervous system before lying down to experience a sound healing recipe of two healing yoga gongs\, a crystal bowl\, her special shamanic drum\, and Koshii wind chimes. There will be no Kundalini Breath of Fire in this session.\nBOOK NOW \nYou will lie beside the fire\, in candlelight in special Studio Ananda. The name Ananda means bliss. \nIf you are uncomfortable lying down\, you can also sit for sound. If you need a chair let me know\, and you are welcome to bring your own props as well as use mine. \nAll welcome\, except I choose not to play the gong to anyone pregnant. \nWe live in sensitive times -let me know if you book and feel unwell on the day.\nAt my discretion\, if there is a waitlist\, and your place can be shared on\, and you will get another date this year (with me.)\nif you wish to book for someone else other than yourself you must provide a different email (theirs) so they read the studio T&C.\nPlease do not make multiple bookings under one name as this leads to non-compliance with new studio attendees.\nBut\, please do come and bring your friends.\nFor any booking queries please message me\nEither here on Gymcatch or by email\nemma@yogaspaceyorkshire.com\nWhatsapp: 07833 231348 \nBOOK TICKETS ONLINE HERE on our online booking portal \n 
URL:https://www.yogaspaceyorkshire.com/event/pop-up-soothing-breath-and-sound-healing-hour-with-emma/
LOCATION:YogaSpace Yorkshire\, Patrick Brompton Hall\, Bedale\, North Yorkshire\, DL8 1JL\, United Kingdom
CATEGORIES:YogaSpace Yorkshire Event
ATTACH;FMTTYPE=image/jpeg:https://www.yogaspaceyorkshire.com/wp-content/uploads/2023/01/IMG_2023-1-26-135807.jpg
END:VEVENT
END:VCALENDAR