BEGIN:VCALENDAR
VERSION:2.0
PRODID:-//Yoga Space Yorkshire - ECPv6.15.20//NONSGML v1.0//EN
CALSCALE:GREGORIAN
METHOD:PUBLISH
X-ORIGINAL-URL:https://www.yogaspaceyorkshire.com
X-WR-CALDESC:Events for Yoga Space Yorkshire
REFRESH-INTERVAL;VALUE=DURATION:PT1H
X-Robots-Tag:noindex
X-PUBLISHED-TTL:PT1H
BEGIN:VTIMEZONE
TZID:Europe/London
BEGIN:DAYLIGHT
TZOFFSETFROM:+0000
TZOFFSETTO:+0100
TZNAME:BST
DTSTART:20230326T010000
END:DAYLIGHT
BEGIN:STANDARD
TZOFFSETFROM:+0100
TZOFFSETTO:+0000
TZNAME:GMT
DTSTART:20231029T010000
END:STANDARD
BEGIN:DAYLIGHT
TZOFFSETFROM:+0000
TZOFFSETTO:+0100
TZNAME:BST
DTSTART:20240331T010000
END:DAYLIGHT
BEGIN:STANDARD
TZOFFSETFROM:+0100
TZOFFSETTO:+0000
TZNAME:GMT
DTSTART:20241027T010000
END:STANDARD
BEGIN:DAYLIGHT
TZOFFSETFROM:+0000
TZOFFSETTO:+0100
TZNAME:BST
DTSTART:20250330T010000
END:DAYLIGHT
BEGIN:STANDARD
TZOFFSETFROM:+0100
TZOFFSETTO:+0000
TZNAME:GMT
DTSTART:20251026T010000
END:STANDARD
END:VTIMEZONE
BEGIN:VEVENT
DTSTART;TZID=Europe/London:20240614T180000
DTEND;TZID=Europe/London:20240614T210000
DTSTAMP:20260420T083324
CREATED:20240428T151931Z
LAST-MODIFIED:20240516T104332Z
UID:6448-1718388000-1718398800@www.yogaspaceyorkshire.com
SUMMARY:Summer Solstice Celebration Cacao Ceremony
DESCRIPTION:Summer Solstice Celebration Cacao Ceremony 14th June 2024\nJoin Emma at Yogaspace Yorkshire on Friday 14th June 2024 to honour the midpoint vibrational energy of our yogic year. Summer solstice is when the sun is at its highest\, lightest and longest power and the sun is our human battery. \nSarah Woodhouse from The Wash House Northumberland yoga studio will lead the cacao ceremony itself. \nEmma and Sarah are qualified Kundalini yoga teachers with KRI schools of training and offer authentic Kundalini yoga practise with integrity to the teachings – between them they have 15 years of Kundalini yoga experience. Both Emma and Sarah support the spiritual growth of women as they rise up during the Aquarian Age and birth into their fullest potential. \nTheir last residential retreat was in March 2024 and the next retreat is in November (22-24th ) 2024 in Northumberland. \nPlease attend this ceremony knowing you are able to consume plant medicine – and have no medical contra indications – check with your doctor if you are not sure. \nThis event will be held in the YSY Walled Garden\, weather permitting. \nJoin us as we honour the midsummer Solstice energies with a fabulous event.\nCacao is an ancient plant that allows us to relax and access realms of higher consciousness – or merely to experience a kind\, calm way of being. The experience is usually unique and supportive for health and healing\, but no promises made. \nSarah’s homemade cacao is made from highest ceremonial grade shamanic cacao. We also enjoy some gentle movement and a music soundscape.\nAfterwards\, we have a cuppa and chat\, and you are invited to bring your a contribution to our sharing tea picnic in the walled garden.\nWe will make the cacao from Almond milk. Please advise us if you have a nut allergy before buying a ticket so we can consider options. \nYou will be amongst a vibrant spiritual community here at YSY.\nIf you have any medical conditions that cacao bean may affect\, please consult with your doctor or medical practitioner before buying a ticket.\nBuy buying this ticket you are declaring that you are able to consume cacao – a plant medicine.\nPlease do not use your account to buy a ticket for anyone else\, please ask any friend or relative you wish to attend with\, to register and buy their own ticket. \nPrice is £45.00\nTickets are limited as we will be inside if it is raining.\n15th June 2024 from 3 pm\nCacao ceremony – 6 for 6.15pm start  light refreshment Herbal teas/soft drink sanghat gathering after \nThere is no refund for special events but if you cannot make the event close to the date\, we can resell your ticket if we have a wait list – be aware we will take a resell fee and we may not have a wait list.  \n  \nIf you have any questions please email Emma \non ysy gmail – yogaspaceyorkshire@gmail.com \nBUY YOUR TICKETS ON GYMCATCH – choose 14th June and use the booking button. \n  \nPlease note – if you are new to YSY – you will have to register on Gymcatch booking system and fill out the studio waiver in order to buy a ticket. \nIt is important you do not buy a ticket for anyone but yourself – your friend must buy their own\, as we need to ensure you have declared you have no medical contra-indications that might clash with cacao.
URL:https://www.yogaspaceyorkshire.com/event/summer-solstice-celebration-cacao-ceremony/
LOCATION:YogaSpace Yorkshire\, Patrick Brompton Hall\, Bedale\, North Yorkshire\, DL8 1JL\, United Kingdom
ATTACH;FMTTYPE=image/jpeg:https://www.yogaspaceyorkshire.com/wp-content/uploads/2024/04/IMG_7458-2-scaled.jpg
END:VEVENT
END:VCALENDAR