BEGIN:VCALENDAR
VERSION:2.0
PRODID:-//Yoga Space Yorkshire - ECPv6.15.20//NONSGML v1.0//EN
CALSCALE:GREGORIAN
METHOD:PUBLISH
X-WR-CALNAME:Yoga Space Yorkshire
X-ORIGINAL-URL:https://www.yogaspaceyorkshire.com
X-WR-CALDESC:Events for Yoga Space Yorkshire
REFRESH-INTERVAL;VALUE=DURATION:PT1H
X-Robots-Tag:noindex
X-PUBLISHED-TTL:PT1H
BEGIN:VTIMEZONE
TZID:Europe/London
BEGIN:DAYLIGHT
TZOFFSETFROM:+0000
TZOFFSETTO:+0100
TZNAME:BST
DTSTART:20190331T010000
END:DAYLIGHT
BEGIN:STANDARD
TZOFFSETFROM:+0100
TZOFFSETTO:+0000
TZNAME:GMT
DTSTART:20191027T010000
END:STANDARD
BEGIN:DAYLIGHT
TZOFFSETFROM:+0000
TZOFFSETTO:+0100
TZNAME:BST
DTSTART:20200329T010000
END:DAYLIGHT
BEGIN:STANDARD
TZOFFSETFROM:+0100
TZOFFSETTO:+0000
TZNAME:GMT
DTSTART:20201025T010000
END:STANDARD
BEGIN:DAYLIGHT
TZOFFSETFROM:+0000
TZOFFSETTO:+0100
TZNAME:BST
DTSTART:20210328T010000
END:DAYLIGHT
BEGIN:STANDARD
TZOFFSETFROM:+0100
TZOFFSETTO:+0000
TZNAME:GMT
DTSTART:20211031T010000
END:STANDARD
END:VTIMEZONE
BEGIN:VEVENT
DTSTART;TZID=Europe/London:20201122T141500
DTEND;TZID=Europe/London:20201122T161500
DTSTAMP:20260423T004854
CREATED:20201009T192020Z
LAST-MODIFIED:20201030T121203Z
UID:4173-1606054500-1606061700@www.yogaspaceyorkshire.com
SUMMARY:Mindful Walk with Forest Bathing expert\, Faith Douglas
DESCRIPTION:A Spiritual Pharmacy Event at YogaSpace Yorkshire\n\nJoin mindfulness practitioner and forest bathing expert\, Faith Douglas from Forest Bathing UK for a beautiful mindful walk in the tranquil gardens and peaceful grounds of Patrick Brompton Hall\, home of YogaSpace Yorkshire.\n\nAuthor of The Nature Remedy\, Faith invites you to switch off from your distractions and reconnect with life using nature as your guide.\n\nThis short guided walk will leave you feeling calm\, happy\, and relaxed.\n\nTo book by email: – emma@yogaspaceyorkshire.com\nWalk – £20
URL:https://www.yogaspaceyorkshire.com/event/mindfulness-walk-with-forest-bathing-expert-faith-douglas/
LOCATION:YogaSpace Yorkshire\, Patrick Brompton Hall\, Bedale\, North Yorkshire\, DL8 1JL\, United Kingdom
CATEGORIES:Saturday yoga,YogaSpace Yorkshire Event
ATTACH;FMTTYPE=image/jpeg:https://www.yogaspaceyorkshire.com/wp-content/uploads/2020/10/4a35235a-2e72-413f-b950-82502d407035.jpg
END:VEVENT
END:VCALENDAR