BEGIN:VCALENDAR
VERSION:2.0
PRODID:-//Yoga Space Yorkshire - ECPv6.15.20//NONSGML v1.0//EN
CALSCALE:GREGORIAN
METHOD:PUBLISH
X-WR-CALNAME:Yoga Space Yorkshire
X-ORIGINAL-URL:https://www.yogaspaceyorkshire.com
X-WR-CALDESC:Events for Yoga Space Yorkshire
REFRESH-INTERVAL;VALUE=DURATION:PT1H
X-Robots-Tag:noindex
X-PUBLISHED-TTL:PT1H
BEGIN:VTIMEZONE
TZID:Europe/London
BEGIN:DAYLIGHT
TZOFFSETFROM:+0000
TZOFFSETTO:+0100
TZNAME:BST
DTSTART:20230326T010000
END:DAYLIGHT
BEGIN:STANDARD
TZOFFSETFROM:+0100
TZOFFSETTO:+0000
TZNAME:GMT
DTSTART:20231029T010000
END:STANDARD
BEGIN:DAYLIGHT
TZOFFSETFROM:+0000
TZOFFSETTO:+0100
TZNAME:BST
DTSTART:20240331T010000
END:DAYLIGHT
BEGIN:STANDARD
TZOFFSETFROM:+0100
TZOFFSETTO:+0000
TZNAME:GMT
DTSTART:20241027T010000
END:STANDARD
BEGIN:DAYLIGHT
TZOFFSETFROM:+0000
TZOFFSETTO:+0100
TZNAME:BST
DTSTART:20250330T010000
END:DAYLIGHT
BEGIN:STANDARD
TZOFFSETFROM:+0100
TZOFFSETTO:+0000
TZNAME:GMT
DTSTART:20251026T010000
END:STANDARD
END:VTIMEZONE
BEGIN:VEVENT
DTSTART;TZID=Europe/London:20241004T160000
DTEND;TZID=Europe/London:20241006T140000
DTSTAMP:20260420T042711
CREATED:20240531T200514Z
LAST-MODIFIED:20240910T120925Z
UID:6464-1728057600-1728223200@www.yogaspaceyorkshire.com
SUMMARY:Yorkshire Weekend Yoga Sound Breathwork Retreat October 2024
DESCRIPTION:Yorkshire Weekend Yoga/Pilates Sound Breathwork Retreat 4-6th October 2024\nThis retreat is sold out – please email to join a wait list should a place come free. \nA CREATIVE focus yoga weekend  \n‘to become THE POSSIBLE HUMAN’ \n4-6th October 2024  – option to stay for a 3rd night and depart Monday 7th October at 10am. \nA weekend of yoga with focus on your CREATIVE Shakti life force. For all women. \nJoin us for a nourishing women’s weekend retreat designed both to enliven your creative spirit and restore your wellbeing. This retreat is for everyone\, even if you are not actively engaging in a creative project (like writing\, art\, or a new business or web-based offering) you are welcome. \nSave the date and book! \nat Patrick Brompton Hall\, Bedale\, North Yorkshire\nFind your wholeness and gather creative focus – harnessing the Autumn ‘fresh start’ energy\, the opportunity to restore and renew your whole being\, in a gentle and yet nourishing way. Bring your creative self\, your ideas and your smile to this weekend gathering of shakti spirit. \nWe have curated a special Autumn weekend to awaken the creative spirit residing in all of us\, for you to be ‘the possible human’ you are born to be. The weekend will explore expansion in your life\, for a creative project or a new project/self-refresh and show how yoga\, breathwork and sound are golden tools to lead you to find your personal alchemical gold. You are full of potential and are always able to find your  ‘possible human’. We will use yoga\, meditations\, breath\, to power up your life. \nJoin Emma\, an experienced Kundalini yoga teacher and retreat leader\, and YSY visiting guest teacher Katharine Walsh from London – also a kundalini yoga\, gong and breathwork teacher – for a weekend created to support and nourish women. \nPam Ashworth\, a trained Pilates teacher joins us\, to offer us a pilates class\, a practice that blends seamlessly with Kundalini yoga. \nRachel from Lifeholistic Therapies in Northumberland will come and stay here and offers divine healing treatments in her healing shala room. \nWhat happens on a yoga retreat weekend? \nRetreat weekends are a blend of accessible yoga practice (no experience of kundalini yoga is necessary – it’s a very simple yoga) breathwork ( magical and transformational and led by an experienced teacher) gong baths that allow sound waves to heal and restore our bodies on a cellular level\, and for those who wish to- (optional) chant mantra session. There is a hot and cold tub – the cold tub is used for breathwork. \nThere will be a walk to our private sacred stone circle  and sometimes we work with a fire ceremony. Rachel has a treatment room and you can book and pay direct with Rachel who offers Indian head massage\, foot massage\, body massage\, and copper bowl sound therapy along the spine. She uses crystals. \nThe schedule allows for generous free time gaps and all the activities are optional: be as busy or as relaxed as you wish. Do what you want to do\, and feel good about it. \nPrice quoted per room includes all your activities\, hot and cold drinks\, refresments and meals. \nExtras: Treatments with Rachel in the healing room shala\, your travel to and from the venue\, and your travel insurance. \nWhat kind of food will I eat? \nLet us nourish you with delicious meals created for the weekend by our Yorkshire cook Sarah\, from Coverdale Kitchen who will nourish ( and spoil us)\, ensuring your food is balanced for our weekend restoration. \nWe serve vegetarian food -and\,  if you have an allergy to a specific ingredient eg: Nuts\, we do need to know. Please email us before you book. We always seek to cater for medical allergy where possible for our chef and the whole group menu. Both plant and dairy milk and butter will be available in the dining room. We cater for a gluten free diet where it is a medical need. \nWhat is the accommodation like? \nYour room choice. Please select one of the following rooms and head to the date 4th October on the timetable then please message Emma and pay by BACS (message to: yogaspaceyorkshire@gmail.com with your name\, room choice and yoga experience and any other information we will find useful. It is nice to know a little more about you than only a name on application! \nYou will see twin and single and cottage room descriptions\, please choose and read the instructions. \nRooms in main house ( indoor pool is inside the house !) use any bathroom and pool room. Total of 5 bathrooms. \nRooms –  \nall sold \nCottages \nall sold. \nThe price PP for your accommodation includes \nEverything once you are here – food/hot and cold drink – activities – plus hotel Standard linen and towels. Bathrobe\nYoga mat and props( but bring your own mat if you are keen yogi and have one – it’s nice ) \nThe Price PP Does not include \nYour travel to and from us.\nAny therapies with Rachel.\nYour health/travel insurance -this is necessary – please read our booking terms below. \nTerms\n1. 30% deposit to book and secure your place\n2. 70% balance is due 6 weeks before the retreat start date. \nCancellation Terms \n3. We cannot offer any refund if you book and then cancel within the 6 week period before the event\, as you are liable for the balance once you have paid the deposit even if you don’t come or can’t find a replacement.\n4. We strongly encourage you to seek a replacement female guest suitable for the weekend group and ask them to contact us to attend in your place ( you negotiate with your friend what they pay you). \nIf we fill your cancelled place for you. \n1. We retain your deposit in the case of all cancellations and refund you a discretionary amount of the balance – the percentage will depend on the administration and advertising costs it took to obtain a replacement for your place.\n3. No replacement will mean you lose your entire fee – both deposit and balance – if you cancel within 6 weeks of the event start date. \nIf we cancel you.   \nIf we cancel you – we refund you entirely. \nTo Book or Enquire to Book\nPlease email \nyogaspaceyorkshire@gmail.com \nYou may also whatsapp. Emma on \nLook for YSY – 07833231348 \nJoining Emma – the founder\, owner and experienced. Kundalini yoga teacher and retret leader will be Katherine and Pam.\nAbout Katharine\nhttps://www.feellikeafishinwater.co.uk/ \nKatharine is dedicated to helping people to stop feeling like fish out of water\, by making breath\, stretch\, yoga\, meditation and soundbaths accessible to all.  She has been trained by some of the leading sound journey facilitators\, and her sessions feature a host of heavenly blissed out beats and sounds \nKatherine is a sound healer alongside her kundalini yoga training. On this weekend\, we are invited by Katharine for a deeply relaxing breath and gong experience that will take you on a meditative journey through the mind and body\, and work to uplift and de-stress through healing sound vibrations\, sensations and frequencies. \nAbout Pam\nPam is a Pilates teacher working via private class sessions only. \nWe will enjoy a one hour (optional) session of Pilates on Sunday. Pam has a longstanding connection with YogaSpace Yorkshire – lives close by\, and the session is 9-10am Sunday morning before we have breakfast.
URL:https://www.yogaspaceyorkshire.com/event/yorkshire-weekend-yoga-sound-breathwork-retreat-october-2024/
LOCATION:YogaSpace Yorkshire\, Patrick Brompton Hall\, Bedale\, North Yorkshire\, DL8 1JL\, United Kingdom
CATEGORIES:Women's Retreat
ATTACH;FMTTYPE=image/jpeg:https://www.yogaspaceyorkshire.com/wp-content/uploads/2024/05/IMG_9760-3-scaled.jpg
END:VEVENT
END:VCALENDAR