BEGIN:VCALENDAR
VERSION:2.0
PRODID:-//Yoga Space Yorkshire - ECPv6.15.20//NONSGML v1.0//EN
CALSCALE:GREGORIAN
METHOD:PUBLISH
X-ORIGINAL-URL:https://www.yogaspaceyorkshire.com
X-WR-CALDESC:Events for Yoga Space Yorkshire
REFRESH-INTERVAL;VALUE=DURATION:PT1H
X-Robots-Tag:noindex
X-PUBLISHED-TTL:PT1H
BEGIN:VTIMEZONE
TZID:Europe/London
BEGIN:DAYLIGHT
TZOFFSETFROM:+0000
TZOFFSETTO:+0100
TZNAME:BST
DTSTART:20240331T010000
END:DAYLIGHT
BEGIN:STANDARD
TZOFFSETFROM:+0100
TZOFFSETTO:+0000
TZNAME:GMT
DTSTART:20241027T010000
END:STANDARD
BEGIN:DAYLIGHT
TZOFFSETFROM:+0000
TZOFFSETTO:+0100
TZNAME:BST
DTSTART:20250330T010000
END:DAYLIGHT
BEGIN:STANDARD
TZOFFSETFROM:+0100
TZOFFSETTO:+0000
TZNAME:GMT
DTSTART:20251026T010000
END:STANDARD
BEGIN:DAYLIGHT
TZOFFSETFROM:+0000
TZOFFSETTO:+0100
TZNAME:BST
DTSTART:20260329T010000
END:DAYLIGHT
BEGIN:STANDARD
TZOFFSETFROM:+0100
TZOFFSETTO:+0000
TZNAME:GMT
DTSTART:20261025T010000
END:STANDARD
END:VTIMEZONE
BEGIN:VEVENT
DTSTART;TZID=Europe/London:20250111T093000
DTEND;TZID=Europe/London:20250111T170000
DTSTAMP:20260420T002136
CREATED:20241116T181900Z
LAST-MODIFIED:20241206T151349Z
UID:6555-1736587800-1736614800@www.yogaspaceyorkshire.com
SUMMARY:Shape Your Personal Vision For 2025 Retreat Day At YogaSpace Yorkshire
DESCRIPTION:Shape Your Personal Vision For 2025 Retreat Day At YogaSpace Yorkshire\nSold Out – join the waitlist on the booking page (free waitlist) – if we have enough interest we can hold a 2nd event. We also have a one-day retreat on 1st Feb 2024 – explore that event. \nSaturday 11th January 2025 @YogaSpace Yorkshire near Bedale\, North Yorkshire\nArrive from 9.30am\, first session 10am – event ends 5pm\nWe enter a fresh 365 days from New Year’s Day\, design your year with us \nShape Your Personal Vision For 2025 Retreat Day At YogaSpace Yorkshire \nBeing is Becoming. \nSaturday 11th January 2025 @YogaSpace Yorkshire near Bedale\, North Yorkshire\nArrive from 9.30am\, first session 10am – event ends 5pm\nWhen we enter a fresh 365 days at New Year we enter a space and time of opportunity.\nHow rewarding could life be? To reach the end of December 2025 having the whole experience of those twelve months  ‘being into becoming.’ \nNew Year is an interesting time\, a liminal space where we can be present with ourselves after the Festive period. We crawl inside ourselves using the dark (womb-like) energy of early January’s short days and rebirth ourselves towards the lighter longer days that arrive from the Equinox. The perfect time for an exploration into ‘being is becoming.’ \nThis workshop might allow you time to ask how comfortable you are with your current life and engage with tools and modalities that allow you to become a driver of your life. Might you dare to take agency for yourself\, behind a steering wheel of your own directions? Make 2025 the year of 365 days where you explore with courage\, the route of your heart’s desire\, no longer a passenger allowing life ‘to come at you.’ \nThis one-day retreat will be a time for workshopping the idea of change; we are living beings made of energy\, our cells are constantly evolving in our physical body. What we do today we become tomorrow in our body\, our physical actions\, even what we eat. Equally  important is how we live in our own mind. \nThis workshop retreat day will be led by Emma Ropner and Lorna Garrity. \nEmma is an experienced mature Kundalini yoga teacher specialising in philosophical and empowering yoga classes sharing esoteric teachings through yoga series that nourish and nurture you. She explores numbers from a spiritual perspective\, alongside working with various meditations\, breath work\, chants and gong sound. \nLorna is a (Tony) Robbins-Madanes trained coach with 15 years experience in the corporate transformation area.  She now guides clients towards their power to thrive\, closing the gap between where they are\, and where they want to be. Lorna is also an author\, and a speaker at events. \nEmma and Lorna will weave a day-retreat itinerary allowing you to consider and shape a personal vision for 2025 and reflect on your 2025 realistic goal priorities \nYou can expect \nTransformational Yoga session: A powerful but accessible for all\, energy-moving yoga session with breath work followed by a gong relaxation. Ancient yogic teachings say that the pranic energy created at the navel is infinitely superior to the pranic energy we collect at the mind/intellect. \nDirectional Tools and Modalities: for eg: Goal Priorities with Lorna \nSignificance of Numbers: Exploring 2025 guidance for mind body and spirit through this year’s numbers 2-0-2-5 with Emma \nAn exploration into Feminine Archetypes: with Lorna \nWe will also work with Fire. \nThe day includes a light lunch and all refreshments. \nParking is on-site. We can provide yoga mats. \nAfter booking the schedule will be sent two weeks before the retreat date on 11th January 2025 \nFull Price: £145 after 11.59 on 30th November 2024 \nEarly Bird: £130 up until 11.59 30 November 2024 thereafter full price. \nPlaces strictly limited to a small group due to the powerful work of the day. \nTo book \nVisit the Studio Timetable and choose 11th January 2025 on the calendar \nShape Your Personal Vision For 2025 Retreat Day At YogaSpace Yorkshire \nIf new to YSY you may need to create a user account on Gymcatch to book. \nPlease email \nyogaspaceyorkshire@gmail.com  \nwith any booking or workshop questions.
URL:https://www.yogaspaceyorkshire.com/event/shape-your-personal-vision-for-2025-retreat-day-at-yogaspace-yorkshire/
LOCATION:YogaSpace Yorkshire\, Patrick Brompton Hall\, Bedale\, North Yorkshire\, DL8 1JL\, United Kingdom
CATEGORIES:YogaSpace Yorkshire Event
ATTACH;FMTTYPE=image/jpeg:https://www.yogaspaceyorkshire.com/wp-content/uploads/2024/11/IMG_2024-11-16-182238.jpg
END:VEVENT
END:VCALENDAR