BEGIN:VCALENDAR
VERSION:2.0
PRODID:-//Yoga Space Yorkshire - ECPv6.15.20//NONSGML v1.0//EN
CALSCALE:GREGORIAN
METHOD:PUBLISH
X-WR-CALNAME:Yoga Space Yorkshire
X-ORIGINAL-URL:https://www.yogaspaceyorkshire.com
X-WR-CALDESC:Events for Yoga Space Yorkshire
REFRESH-INTERVAL;VALUE=DURATION:PT1H
X-Robots-Tag:noindex
X-PUBLISHED-TTL:PT1H
BEGIN:VTIMEZONE
TZID:Europe/London
BEGIN:DAYLIGHT
TZOFFSETFROM:+0000
TZOFFSETTO:+0100
TZNAME:BST
DTSTART:20190331T010000
END:DAYLIGHT
BEGIN:STANDARD
TZOFFSETFROM:+0100
TZOFFSETTO:+0000
TZNAME:GMT
DTSTART:20191027T010000
END:STANDARD
BEGIN:DAYLIGHT
TZOFFSETFROM:+0000
TZOFFSETTO:+0100
TZNAME:BST
DTSTART:20200329T010000
END:DAYLIGHT
BEGIN:STANDARD
TZOFFSETFROM:+0100
TZOFFSETTO:+0000
TZNAME:GMT
DTSTART:20201025T010000
END:STANDARD
BEGIN:DAYLIGHT
TZOFFSETFROM:+0000
TZOFFSETTO:+0100
TZNAME:BST
DTSTART:20210328T010000
END:DAYLIGHT
BEGIN:STANDARD
TZOFFSETFROM:+0100
TZOFFSETTO:+0000
TZNAME:GMT
DTSTART:20211031T010000
END:STANDARD
END:VTIMEZONE
BEGIN:VEVENT
DTSTART;TZID=Europe/London:20201230T163000
DTEND;TZID=Europe/London:20201230T183000
DTSTAMP:20260422T203711
CREATED:20201125T181614Z
LAST-MODIFIED:20201219T122849Z
UID:4358-1609345800-1609353000@www.yogaspaceyorkshire.com
SUMMARY:100% Outside Event -Manifesting your light with Excellent Intention for 2021
DESCRIPTION:Join us on Wednesday 30th  December 2020  to Manifest Your Light with  Excellent Intention for our next 12 months (2021).\nEmail Emma to join this event – you will receive the information (and any need to cancel due to bad inclement weather) up to 2 days before the 30th Dec. \nTurn your shadows into the brilliance of your alchemical gold. Light your source of clarity\, purity\, and resilience as your medicine\nUsing the activation of gong\, ritual\, and ceremony we peel away winter darkness ready to birth into our 2021 year of light.  Let us stir your life force\, allow you to tap into the clarity of a pure heart. We will activate yoga sutra 11.43 – Living life with zeal and sincerity\, the purifying flame is ignited\, (Tapas)\, revealing the inner light. Read more on the blog here. \nThis event takes place 100%  outside Studio Ananda – around brazier fires. We will observe social distancing.  No ground-based yoga.  All welcome\, except those pregnant. \nEmail for a place on the list: event notification will be sent the day before and please pay ON THE DAY exact money. \n£20 (those who qualified for an early bird price of £18 –  if you bring a £20 note for an £18 ticket\, I cannot give you change and your £2 will be an additional yogic donation/blessing. \ntime: 4.30pm- 6.30pm \nVegetarian refreshment + a hot Yogic tea. \n£20- ticket -please bring exact money – ‘on the day’. \nA spiritual pharmacy event @yogaspaceyorkshire \nThis event replaces our plans for a celebration of the Winter Solstice planned for 21st Dec 2020 – but this event will be AS POWERFUL. \nThe event is 100% outside (toilet facilities will be accessible!) for your safety. \nYou should prepare by dressing warmly\, hat\, coat\, scarf and gloves\, warm shoes\, socks trousers. Personal Torch optional but a good idea. \nBring a waterproof cushion or camping stool to sit on\, we will mostly be standing otherwise. \nAnd….The FIRE will warm us – no one can build a brazier fire like Charles…x \nContact Emma by email to book your place. \nemma@yogaspaceyorkshire.com
URL:https://www.yogaspaceyorkshire.com/event/100-outside-event-manifesting-your-light-with-excellent-intention-for-2021/
CATEGORIES:outside event at YogaSpace Yorkshire,Studio workshop,YogaSpace Yorkshire Event
ATTACH;FMTTYPE=image/jpeg:https://www.yogaspaceyorkshire.com/wp-content/uploads/2020/11/9ACF2342-0730-4107-9001-81DA9845D6AA.jpg
END:VEVENT
END:VCALENDAR