BEGIN:VCALENDAR
VERSION:2.0
PRODID:-//Yoga Space Yorkshire - ECPv6.15.20//NONSGML v1.0//EN
CALSCALE:GREGORIAN
METHOD:PUBLISH
X-WR-CALNAME:Yoga Space Yorkshire
X-ORIGINAL-URL:https://www.yogaspaceyorkshire.com
X-WR-CALDESC:Events for Yoga Space Yorkshire
REFRESH-INTERVAL;VALUE=DURATION:PT1H
X-Robots-Tag:noindex
X-PUBLISHED-TTL:PT1H
BEGIN:VTIMEZONE
TZID:Europe/London
BEGIN:DAYLIGHT
TZOFFSETFROM:+0000
TZOFFSETTO:+0100
TZNAME:BST
DTSTART:20190331T010000
END:DAYLIGHT
BEGIN:STANDARD
TZOFFSETFROM:+0100
TZOFFSETTO:+0000
TZNAME:GMT
DTSTART:20191027T010000
END:STANDARD
BEGIN:DAYLIGHT
TZOFFSETFROM:+0000
TZOFFSETTO:+0100
TZNAME:BST
DTSTART:20200329T010000
END:DAYLIGHT
BEGIN:STANDARD
TZOFFSETFROM:+0100
TZOFFSETTO:+0000
TZNAME:GMT
DTSTART:20201025T010000
END:STANDARD
BEGIN:DAYLIGHT
TZOFFSETFROM:+0000
TZOFFSETTO:+0100
TZNAME:BST
DTSTART:20210328T010000
END:DAYLIGHT
BEGIN:STANDARD
TZOFFSETFROM:+0100
TZOFFSETTO:+0000
TZNAME:GMT
DTSTART:20211031T010000
END:STANDARD
END:VTIMEZONE
BEGIN:VEVENT
DTSTART;TZID=Europe/London:20200915T193000
DTEND;TZID=Europe/London:20200915T204500
DTSTAMP:20260423T114234
CREATED:20200621T135447Z
LAST-MODIFIED:20200831T090605Z
UID:3520-1600198200-1600202700@www.yogaspaceyorkshire.com
SUMMARY:Weaving your Story of healing through shamanic sound journeying with Hamaima
DESCRIPTION:A SpiritualPharmacy@yogaspaceyorkshire.com event\nWeave your own Story – Shamanic Sound Healing Journey – no gong\, suitable for all.\nJoin Shamanic Practitioner Hamaima on a series of journeys into the dream time to rewrite your old stories into new empowered ones. \nDreaming the New Earth into being 🌟  \nJoin us on a journey into the dream time to experience yourself as the eternal\, pure soul that you are\, forever loved and guided by your unique team of Spiritual Guides and Master Teachers. \nDespite outward appearances of turmoil\, confusion\, harshness\, and dissolution that we might experience in this world\, know that the love that is shared with you is unconditional and has no limitations.  \nEnhanced by the sacred sound you will have the opportunity to make peace with old stories\, difficult memories\, and feelings of guilt and shame in order to create a joyful and abundant life from a place of loving awareness. \nJoin us on this online and very magical healing and empowering journey so you can lead your life with a courageous heart. \nRenew your personal empowerment with each session\, build within ‘you in you’\, and step forward post-COVID\, with direction and purpose for the mindful way of life that we have been shown through the great stillness of recent times. \nTuesday\, 15th of September at 7.30 pm \n£20 paid by BACS \nThere will be sound\, but no use of gong. All welcome. \nTo book:\nemail: emma@yogaspaceyorkshire.com \nOur previous sessions with Hamaima have been very much appreciated. Read our testimonials below. \nI thought she was absolutely amazing and loved it!!!! Wonderful journeying with so much going on. Fantastic!!!!! I’ll be there when she comes to Yorkshire. When Hamaima comes north\, you’ve all got to come and see her. Fab on wheels! 🙏 Thank you so much. Lily \nThank you for organising tonight with Hamaima x it was beautiful xx Sally \nThank you for organising tonight\, loved it xx Emily \nExplore www.hamaima.com
URL:https://www.yogaspaceyorkshire.com/event/weaving-your-story-of-healing-through-shamanic-sound-journeying-with-hamaima/
LOCATION:Online YogaSpaceYorkshire Event
CATEGORIES:online zoom event,shamanic event
ATTACH;FMTTYPE=image/jpeg:https://www.yogaspaceyorkshire.com/wp-content/uploads/2020/06/PHOTO-2020-06-12-10-27-54-2.jpg
ORGANIZER;CN="YogaSpace Yorkshire":MAILTO:hello@yogaspaceyorkshire.com
END:VEVENT
END:VCALENDAR