BEGIN:VCALENDAR
VERSION:2.0
PRODID:-//Yoga Space Yorkshire - ECPv6.15.20//NONSGML v1.0//EN
CALSCALE:GREGORIAN
METHOD:PUBLISH
X-ORIGINAL-URL:https://www.yogaspaceyorkshire.com
X-WR-CALDESC:Events for Yoga Space Yorkshire
REFRESH-INTERVAL;VALUE=DURATION:PT1H
X-Robots-Tag:noindex
X-PUBLISHED-TTL:PT1H
BEGIN:VTIMEZONE
TZID:Europe/London
BEGIN:DAYLIGHT
TZOFFSETFROM:+0000
TZOFFSETTO:+0100
TZNAME:BST
DTSTART:20240331T010000
END:DAYLIGHT
BEGIN:STANDARD
TZOFFSETFROM:+0100
TZOFFSETTO:+0000
TZNAME:GMT
DTSTART:20241027T010000
END:STANDARD
BEGIN:DAYLIGHT
TZOFFSETFROM:+0000
TZOFFSETTO:+0100
TZNAME:BST
DTSTART:20250330T010000
END:DAYLIGHT
BEGIN:STANDARD
TZOFFSETFROM:+0100
TZOFFSETTO:+0000
TZNAME:GMT
DTSTART:20251026T010000
END:STANDARD
BEGIN:DAYLIGHT
TZOFFSETFROM:+0000
TZOFFSETTO:+0100
TZNAME:BST
DTSTART:20260329T010000
END:DAYLIGHT
BEGIN:STANDARD
TZOFFSETFROM:+0100
TZOFFSETTO:+0000
TZNAME:GMT
DTSTART:20261025T010000
END:STANDARD
END:VTIMEZONE
BEGIN:VEVENT
DTSTART;TZID=Europe/London:20250201T093000
DTEND;TZID=Europe/London:20250201T170000
DTSTAMP:20260419T231034
CREATED:20241128T175042Z
LAST-MODIFIED:20250125T175150Z
UID:6593-1738402200-1738429200@www.yogaspaceyorkshire.com
SUMMARY:Silent Retreat Day At YogaSpace Yorkshire February 2025
DESCRIPTION:Silent Retreat Day at YogaSpace Yorkshire\nA Guided Retreat Day: Silent\, Soulful\, Simple.\nLunch is included.\n*THIS RETREAT DAY IS FULL – join waitlist*\nSaturday 1st February 2025 @yogaspaceyorkshire near Bedale\, North Yorkshire.\n9.30 to start at 10am \nSilent (guided) practice will start from 11.30am and silence continues throughout all the day/practises/lunch until the final 4pm session which will not be silent. \nThe day will end at 5pm. \nFirst Law of Life: Listening\nThis retreat will be a gathering on the eve of Candle Mass and on the 32nd day of 2025. During the winter womb-dark month of February you are invited to gather with a small collective and in a beautiful space\, to hear from your inner voice. Might you hear the unique song of your yearning soul? \nHow?  \nThrough intentional yogic movement (Kundalini kriya yoga) preparing the body for our silent meditations be they in the  studio or outdoors in nature. The gong is the only permitted sound when needed\, along with any yogic/breathwork/meditation instruction from Emma and any music/chant required.\nThe final session of the timetable for the day will be when silence ceases – for a specific reason. \nWhat to expect on the day.  \n‘A teacher can lead you to the door\, only you can go through.’ \nThis one- day experience at YogaSpace Yorkshire will be led by Emma Ropner a senior kundalini yoga teacher and experienced retreat leader\, gong player and women’s facilitator. \nMorning Preparatory Yoga – designed by Emma in relation to the day ahead.\nStudio Meditations\nA simple satisfying lunch\nAn outside session\nA gong meditation.\nA final session (spoken).\nOptional: The swimming pool will be heated and available for anyone wishing to swim at the end of the day (bring your own towel.)\nNB: the full schedule/information needed\, will be sent prior to the event. \nAbout Emma \nEmma is a certified Kundalini yoga teacher\, her main training is from The Karam Kriya school and her shorter additional certified yoga trainings are by other Kundalini yoga qualified teacher trainers\, other YA teachers\, some UK and some USA and Emma also works with a qualified spiritual supervisor with over 40 years experience. \nEmma believes that you can explore soulful and yogic practices via teachers only ‘to allow yourself alone’ to become your greatest healer. Teachers intend to only lead you to the door \nThe day seeks/intends to provide you peace\, space and time in a world that is fast-paced\, and also full of ‘healing works offered with large promises about healing you.’ The intention for this day is to focus instead\, on self-compassion and kindness and allowing the guide within you to birth its light \nFee: limited spaces*see below  \n£125.00 per ticket \nNon refundable: only transferable via Emma to an applicant on the waitlist.\nBook via th Gymcatch app or via the studio timetable tab on the YSY website home page. \n(search for 1st February on the calendar to book.) \n*Are You New to YSY?\nYou may still attend this workshop – space permitting.  We are delighted to welcome you. Please email Emma for a space\, before booking. \nWhen you go the the Gymcatch calendar\, click until you find Feb 1st on the calendar. \nUSE THIS LINK TO BOOK  \n\nSilent Retreat Day At YogaSpace Yorkshire February 2025 \n\nShare this event \nFor all enquiries and questions: email: yogaspaceyorkshire@gmail.com \n 
URL:https://www.yogaspaceyorkshire.com/event/silent-retreat-day-at-yogaspace-yorkshire-february-2025/
LOCATION:YogaSpace Yorkshire\, Patrick Brompton Hall\, Bedale\, North Yorkshire\, DL8 1JL\, United Kingdom
CATEGORIES:One-Day Retreat,YogaSpace Yorkshire Event,YogaSpace Yorkshire Shamanic Studio event
ATTACH;FMTTYPE=image/jpeg:https://www.yogaspaceyorkshire.com/wp-content/uploads/2024/11/IMG_2024-11-28-173237.jpg
END:VEVENT
END:VCALENDAR