BEGIN:VCALENDAR
VERSION:2.0
PRODID:-//Yoga Space Yorkshire - ECPv6.15.20//NONSGML v1.0//EN
CALSCALE:GREGORIAN
METHOD:PUBLISH
X-WR-CALNAME:Yoga Space Yorkshire
X-ORIGINAL-URL:https://www.yogaspaceyorkshire.com
X-WR-CALDESC:Events for Yoga Space Yorkshire
REFRESH-INTERVAL;VALUE=DURATION:PT1H
X-Robots-Tag:noindex
X-PUBLISHED-TTL:PT1H
BEGIN:VTIMEZONE
TZID:Europe/London
BEGIN:DAYLIGHT
TZOFFSETFROM:+0000
TZOFFSETTO:+0100
TZNAME:BST
DTSTART:20190331T010000
END:DAYLIGHT
BEGIN:STANDARD
TZOFFSETFROM:+0100
TZOFFSETTO:+0000
TZNAME:GMT
DTSTART:20191027T010000
END:STANDARD
BEGIN:DAYLIGHT
TZOFFSETFROM:+0000
TZOFFSETTO:+0100
TZNAME:BST
DTSTART:20200329T010000
END:DAYLIGHT
BEGIN:STANDARD
TZOFFSETFROM:+0100
TZOFFSETTO:+0000
TZNAME:GMT
DTSTART:20201025T010000
END:STANDARD
BEGIN:DAYLIGHT
TZOFFSETFROM:+0000
TZOFFSETTO:+0100
TZNAME:BST
DTSTART:20210328T010000
END:DAYLIGHT
BEGIN:STANDARD
TZOFFSETFROM:+0100
TZOFFSETTO:+0000
TZNAME:GMT
DTSTART:20211031T010000
END:STANDARD
END:VTIMEZONE
BEGIN:VEVENT
DTSTART;TZID=Europe/London:20200609T193000
DTEND;TZID=Europe/London:20200609T210000
DTSTAMP:20260423T174532
CREATED:20191224T135450Z
LAST-MODIFIED:20200604T181308Z
UID:2604-1591731000-1591736400@www.yogaspaceyorkshire.com
SUMMARY:Online Shamanic Ceremony with Sacred Sound(no gong)
DESCRIPTION:Online Shamanic Sacred Sound journey Hamaima\nZoom Shamanic Sound Journey with Hamaima –  Tuesday 7.30pm June 9nd  2020     \nJoin Shamanic Practitioner Hamaima on this journey into the dream time through Shamanic journeying\, guided meditation\, sound healing\, medicine songs and prayer. \nThe aim of this journey is to help you connect with your innermost being\, to surrender and to open to your own unique wisdom and intuition in an effortless way. \nSuch a deep connection with your spirit can have a positive impact on all aspects of your life\, your physical and emotional health\, relationships\, career\, diet and so much more. \nYou will spend most of the session lying down comfortably and this event doesn’t involve any movement. \nThere is no previous experience required. Everyone is welcome ❤️ Sound does not use gong. \nMore about Hamaima here www.hamaima.com \nZoom tickets £20 \nemail: emma@yogaspaceyorkshire.com \nPlaces unlimited – join us! \n  \n  \n  \n 
URL:https://www.yogaspaceyorkshire.com/event/online-shamanic-ceremony-with-sacred-sound/
LOCATION:Patrick Brompton Hall\, United Kingdom
CATEGORIES:online zoom event,shamanic event,YogaSpace Yorkshire Event
ATTACH;FMTTYPE=image/jpeg:https://www.yogaspaceyorkshire.com/wp-content/uploads/2020/05/186A7136-scaled.jpeg
END:VEVENT
END:VCALENDAR