BEGIN:VCALENDAR
VERSION:2.0
PRODID:-//Yoga Space Yorkshire - ECPv6.15.20//NONSGML v1.0//EN
CALSCALE:GREGORIAN
METHOD:PUBLISH
X-WR-CALNAME:Yoga Space Yorkshire
X-ORIGINAL-URL:https://www.yogaspaceyorkshire.com
X-WR-CALDESC:Events for Yoga Space Yorkshire
REFRESH-INTERVAL;VALUE=DURATION:PT1H
X-Robots-Tag:noindex
X-PUBLISHED-TTL:PT1H
BEGIN:VTIMEZONE
TZID:Europe/London
BEGIN:DAYLIGHT
TZOFFSETFROM:+0000
TZOFFSETTO:+0100
TZNAME:BST
DTSTART:20180325T010000
END:DAYLIGHT
BEGIN:STANDARD
TZOFFSETFROM:+0100
TZOFFSETTO:+0000
TZNAME:GMT
DTSTART:20181028T010000
END:STANDARD
BEGIN:DAYLIGHT
TZOFFSETFROM:+0000
TZOFFSETTO:+0100
TZNAME:BST
DTSTART:20190331T010000
END:DAYLIGHT
BEGIN:STANDARD
TZOFFSETFROM:+0100
TZOFFSETTO:+0000
TZNAME:GMT
DTSTART:20191027T010000
END:STANDARD
BEGIN:DAYLIGHT
TZOFFSETFROM:+0000
TZOFFSETTO:+0100
TZNAME:BST
DTSTART:20200329T010000
END:DAYLIGHT
BEGIN:STANDARD
TZOFFSETFROM:+0100
TZOFFSETTO:+0000
TZNAME:GMT
DTSTART:20201025T010000
END:STANDARD
END:VTIMEZONE
BEGIN:VEVENT
DTSTART;TZID=Europe/London:20191109T100000
DTEND;TZID=Europe/London:20191109T113000
DTSTAMP:20260423T105251
CREATED:20191012T160624Z
LAST-MODIFIED:20191012T160652Z
UID:2442-1573293600-1573299000@www.yogaspaceyorkshire.com
SUMMARY:Tai Chi Taster Morning at YogaSpace Yorkshire with Alexandra
DESCRIPTION:Come and join us for a wonderful Tai Chi taster on 9th November 10-11.30am at YogaSpace Yorkshire (Patrick Brompton Hall). \nIt will be a glorious morning of tea\, chatter and Tai Chi. If you’ve never done Tai Chi before please come along and give it a go. \nThe cost of the session will be £10 which includes yogi tea\, question and answer session with Alexandra and a lovely gentle class incorporating Tai Chi and yoga postures. If you are keen to continue after this workshop Alexandra will be offering a 6 week block for £50 in her Tuesday evening class (6.15pm-7.15pm). \nTo book your place please contact Alexandra at alexandra@yogaspaceyorkshire.com or 07799068656. \n\n\nSee more
URL:https://www.yogaspaceyorkshire.com/event/tai-chi-taster-morning-at-yogaspace-yorkshire-with-alexandra/
LOCATION:Patrick Brompton Hall\, United Kingdom
CATEGORIES:YogaSpace Yorkshire Event
ATTACH;FMTTYPE=image/png:https://www.yogaspaceyorkshire.com/wp-content/uploads/2019/10/Screen-Shot-2019-10-11-at-21.22.57.png
ORGANIZER;CN="YogaSpace Yorkshire":MAILTO:hello@yogaspaceyorkshire.com
END:VEVENT
BEGIN:VEVENT
DTSTART;TZID=Europe/London:20191110T163000
DTEND;TZID=Europe/London:20191110T190000
DTSTAMP:20260423T105251
CREATED:20191012T162122Z
LAST-MODIFIED:20191012T162232Z
UID:2450-1573403400-1573412400@www.yogaspaceyorkshire.com
SUMMARY:Women's Network Meeting at YogaSpace Yorkshire
DESCRIPTION:Women’s Networking Meeting\n\n\nWomen’s Group – Grit and Grace for Women – A time to share\, network and laugh.\nWomen’s Networking meetings here at YogaSpace Yorkshire are for all ages of adult women who love joining a ‘sangat’ – a community where they can offer advice and support\, receive and share\, and learn about various health and wellbeing practises to maintain their mind body and spirit in their highest vibration. \nThere will be a discussion topic while we drink tea. The studio practice will follow. You can expect a combination of some of the following; light yogic style exercise\, a gong bath\, a meditation or yoga Nidra\, breath work (pranayama) or chant. Occasionally a guest teacher or facilitator will talk\, or contribute the studio practice\, so that there are a variety of learning experiences for the women who attend. \nJoin our mail list for more alerts about the Women’s Group content and dates. \nPlease email Emma directly if you are specifically interested in joining this women’s group. \nemma@yogaspaceyorkshire.com \nUpcoming dates. \n1oth November 2019 \n1st December 2019 \n15th December 2019 \nTimes: from 4.30pm for 5pm start and finish 7pm. \nCost: Drop-in with pre-book email/text – £25 \nAdvance payment £20 per session (no refund if no-show on date) \nTopics are\n10th November – Topic –Women are from Venus\, and our bodies are our exclusive feminine ‘gift‘ – space held by Emma and Pam \nJoin us for a general first meeting where we bond and laugh over the sheer ridiculous of hormones and physical events that our bodies\, as women\, have to process during our lives\, from adolescence\, possible birth\, motherhood and parenting or step-parenting\, to the sometimes dreaded experience of the menopause. We will explore these issues and have a discussion about all things ‘feminine and physical’ to see if we have developed helpful strategies amongst us that enable us to navigate these years with integrity.  This first meeting will enable us to create a sisterhood of compassion and solidarity\, for being the Divine Feminine. \n1st December: Topic: Positive Steps We Can Take to Cancer-Proof Our Cells Against Environmental Toxins – with Kate Chaytor-Norris.\nKate is a Nutritional Therapist\,  and Nitrigenomics Practitioner and brings vast knowledge to share with us. Kate will enlighten and empower us with actions we can take\, to limit our exposure to everyday toxins\, and suggestions about a toxic-proof diet. \n15 December – Topic: The Five Sutras of the Aquarian Age – with Emma.\nEmma will introduce you to these five Sutras – distilled sentences of ancient teachings – we will look at the five Sutras given to us by Yogi Bhajan to navigate the Aquarian Age with grit\, compassion and grace. \nEach Sunday Grit and Grace Women’s meeting will have time for discussion/networking followed by a short studio practice/pranayama/meditation and/or gong.\n£25- drop in (£20 when paid BACS in advance)\nAll enquiries for Women’s Grit and Grace meetings   – emma@yogaspaceyorkshire.com
URL:https://www.yogaspaceyorkshire.com/event/2450/
LOCATION:Patrick Brompton Hall\, United Kingdom
CATEGORIES:Studio workshop,Women's Network Meeting,YogaSpace Yorkshire Event
ATTACH;FMTTYPE=image/jpeg:https://www.yogaspaceyorkshire.com/wp-content/uploads/2019/10/IMG_3561.jpg
ORGANIZER;CN="YogaSpace Yorkshire":MAILTO:hello@yogaspaceyorkshire.com
END:VEVENT
END:VCALENDAR