BEGIN:VCALENDAR
VERSION:2.0
PRODID:-//Yoga Space Yorkshire - ECPv6.15.20//NONSGML v1.0//EN
CALSCALE:GREGORIAN
METHOD:PUBLISH
X-WR-CALNAME:Yoga Space Yorkshire
X-ORIGINAL-URL:https://www.yogaspaceyorkshire.com
X-WR-CALDESC:Events for Yoga Space Yorkshire
REFRESH-INTERVAL;VALUE=DURATION:PT1H
X-Robots-Tag:noindex
X-PUBLISHED-TTL:PT1H
BEGIN:VTIMEZONE
TZID:Europe/London
BEGIN:DAYLIGHT
TZOFFSETFROM:+0000
TZOFFSETTO:+0100
TZNAME:BST
DTSTART:20200329T010000
END:DAYLIGHT
BEGIN:STANDARD
TZOFFSETFROM:+0100
TZOFFSETTO:+0000
TZNAME:GMT
DTSTART:20201025T010000
END:STANDARD
BEGIN:DAYLIGHT
TZOFFSETFROM:+0000
TZOFFSETTO:+0100
TZNAME:BST
DTSTART:20210328T010000
END:DAYLIGHT
BEGIN:STANDARD
TZOFFSETFROM:+0100
TZOFFSETTO:+0000
TZNAME:GMT
DTSTART:20211031T010000
END:STANDARD
BEGIN:DAYLIGHT
TZOFFSETFROM:+0000
TZOFFSETTO:+0100
TZNAME:BST
DTSTART:20220327T010000
END:DAYLIGHT
BEGIN:STANDARD
TZOFFSETFROM:+0100
TZOFFSETTO:+0000
TZNAME:GMT
DTSTART:20221030T010000
END:STANDARD
END:VTIMEZONE
BEGIN:VEVENT
DTSTART;TZID=Europe/London:20210321T160000
DTEND;TZID=Europe/London:20210321T183000
DTSTAMP:20260422T091212
CREATED:20210304T173439Z
LAST-MODIFIED:20210313T103041Z
UID:4582-1616342400-1616351400@www.yogaspaceyorkshire.com
SUMMARY:Zoom Event: Yoga And Soul Sunday
DESCRIPTION:Early bird price: – £20 if booked before midnight on Wed 17th March 2021 \nSunday 21 March 2021 4-6.30 pm with Emma and Allanah \nAllanah will introduce you to the power of Soul Plans and \nEmma will guide you through a blissful soft yoga practice opening the heart and soul through intention\, posture and breath. \nAllanah Bourne-Arton\nSpiritual Life Coach & Transformation Therapist \nIs joining us to give us tips on: \n•How to nourish our Soul as much as our Mind and Body\, and the importance of doing so \n•Simple but powerful soul-nourishing techniques we can implement into our daily lives \nShe will also tell us about: \n•Some ground-breaking techniques that can help us discover our Soul Purpose \n•Incredible therapies to help clear any blockages getting in the way of fulfillment \nThere will also be time for questions through which we will all learn from each other. \nSo if you are ready for some loving support in the areas: \n•Self-love and self-care \n•Soul nourishment \n•Spiritual growth \nConnect with like-minded souls over 2 hours of soft Sunday ‘you time’. \nread the blog here. \n  \nTo book: Email: emma@yogaspaceyorkshire.com \nBACS: accepted – mention your name and event booking for \nBACS for \nYogaSpace Yorkshire \nSort code:  40-35-03 \nAccount: 81582593 \n  \n 
URL:https://www.yogaspaceyorkshire.com/event/zoom-event-yoga-and-soul-sunday/
LOCATION:Online YogaSpaceYorkshire Event
CATEGORIES:online zoom event,Softer Sundays wellbeing,Spiritual Pharmacy Event @YSY,YogaSpace Yorkshire Event
ATTACH;FMTTYPE=image/jpeg:https://www.yogaspaceyorkshire.com/wp-content/uploads/2020/11/9ACF2342-0730-4107-9001-81DA9845D6AA.jpg
ORGANIZER;CN="YogaSpace Yorkshire":MAILTO:hello@yogaspaceyorkshire.com
END:VEVENT
END:VCALENDAR