BEGIN:VCALENDAR
VERSION:2.0
PRODID:-//Yoga Space Yorkshire - ECPv6.15.20//NONSGML v1.0//EN
CALSCALE:GREGORIAN
METHOD:PUBLISH
X-WR-CALNAME:Yoga Space Yorkshire
X-ORIGINAL-URL:https://www.yogaspaceyorkshire.com
X-WR-CALDESC:Events for Yoga Space Yorkshire
REFRESH-INTERVAL;VALUE=DURATION:PT1H
X-Robots-Tag:noindex
X-PUBLISHED-TTL:PT1H
BEGIN:VTIMEZONE
TZID:Europe/London
BEGIN:DAYLIGHT
TZOFFSETFROM:+0000
TZOFFSETTO:+0100
TZNAME:BST
DTSTART:20200329T010000
END:DAYLIGHT
BEGIN:STANDARD
TZOFFSETFROM:+0100
TZOFFSETTO:+0000
TZNAME:GMT
DTSTART:20201025T010000
END:STANDARD
BEGIN:DAYLIGHT
TZOFFSETFROM:+0000
TZOFFSETTO:+0100
TZNAME:BST
DTSTART:20210328T010000
END:DAYLIGHT
BEGIN:STANDARD
TZOFFSETFROM:+0100
TZOFFSETTO:+0000
TZNAME:GMT
DTSTART:20211031T010000
END:STANDARD
BEGIN:DAYLIGHT
TZOFFSETFROM:+0000
TZOFFSETTO:+0100
TZNAME:BST
DTSTART:20220327T010000
END:DAYLIGHT
BEGIN:STANDARD
TZOFFSETFROM:+0100
TZOFFSETTO:+0000
TZNAME:GMT
DTSTART:20221030T010000
END:STANDARD
END:VTIMEZONE
BEGIN:VEVENT
DTSTART;TZID=Europe/London:20210716T180000
DTEND;TZID=Europe/London:20210716T220000
DTSTAMP:20260422T032612
CREATED:20210502T102352Z
LAST-MODIFIED:20210627T092847Z
UID:4790-1626458400-1626472800@www.yogaspaceyorkshire.com
SUMMARY:Outdoor Supper Club YogaSpace Yorkshire
DESCRIPTION:Outdoor Supper Clubs at YSY this summer\nFriday 16th July 2021 \nfrom 6 pm \nWhat you will enjoy – dress up – we are celebrating summer and socializing \nAfter gathering and enjoying a botanical cocktail\, your hosts\, Emma\, and Kimberley\, will serve you an exceptional 4 – course supper catered for by our retreat chef Kimberley from Pickled Radish including seasonal vegetables/fruits from our own organic kitchen garden. \nMineral water and herbal teas supplied. \nBring your own wine otherwise \n£48 per person \nCouples welcome \nVegetarian available. \nRegister your interest for places (limited) \nBook on the YSY Whole Self Hub here. \nThis event may be held partly indoors if the weather turns cold – in Studio Ananda with windows (they are huge) open.
URL:https://www.yogaspaceyorkshire.com/event/outdoor-supper-club-yogaspace-yorkshire/
LOCATION:YogaSpace Yorkshire\, Patrick Brompton Hall\, Bedale\, North Yorkshire\, DL8 1JL\, United Kingdom
CATEGORIES:outside event at YogaSpace Yorkshire,YogaSpace Yorkshire Event,YogaSpace Yorkshire Shamanic Studio event
ATTACH;FMTTYPE=image/jpeg:https://www.yogaspaceyorkshire.com/wp-content/uploads/2021/05/IMG_2553-scaled.jpg
END:VEVENT
END:VCALENDAR